BEGIN:VCALENDAR
VERSION:2.0
PRODID:-//Suncook Valley Rotary Hot Air Balloon Rally - ECPv6.15.20//NONSGML v1.0//EN
CALSCALE:GREGORIAN
METHOD:PUBLISH
X-ORIGINAL-URL:https://nhballoonrally.org
X-WR-CALDESC:Events for Suncook Valley Rotary Hot Air Balloon Rally
REFRESH-INTERVAL;VALUE=DURATION:PT1H
X-Robots-Tag:noindex
X-PUBLISHED-TTL:PT1H
BEGIN:VTIMEZONE
TZID:America/New_York
BEGIN:DAYLIGHT
TZOFFSETFROM:-0500
TZOFFSETTO:-0400
TZNAME:EDT
DTSTART:20240310T070000
END:DAYLIGHT
BEGIN:STANDARD
TZOFFSETFROM:-0400
TZOFFSETTO:-0500
TZNAME:EST
DTSTART:20241103T060000
END:STANDARD
BEGIN:DAYLIGHT
TZOFFSETFROM:-0500
TZOFFSETTO:-0400
TZNAME:EDT
DTSTART:20250309T070000
END:DAYLIGHT
BEGIN:STANDARD
TZOFFSETFROM:-0400
TZOFFSETTO:-0500
TZNAME:EST
DTSTART:20251102T060000
END:STANDARD
BEGIN:DAYLIGHT
TZOFFSETFROM:-0500
TZOFFSETTO:-0400
TZNAME:EDT
DTSTART:20260308T070000
END:DAYLIGHT
BEGIN:STANDARD
TZOFFSETFROM:-0400
TZOFFSETTO:-0500
TZNAME:EST
DTSTART:20261101T060000
END:STANDARD
END:VTIMEZONE
BEGIN:VEVENT
DTSTART;TZID=America/New_York:20250802T180000
DTEND;TZID=America/New_York:20250802T200000
DTSTAMP:20260423T144034
CREATED:20250713T172510Z
LAST-MODIFIED:20250713T172742Z
UID:2805-1754157600-1754164800@nhballoonrally.org
SUMMARY:Live Music - The Dan Fallon Band
DESCRIPTION:
URL:https://nhballoonrally.org/event/live-music-the-dan-fallon-band/
LOCATION:Main Field\, 17 Fayette Street\, Pittsfield\, NH\, 03263\, United States
CATEGORIES:Live Entertainment,Saturday
ATTACH;FMTTYPE=image/jpeg:https://nhballoonrally.org/wp-content/uploads/2025/07/1fd796fb-41d9-4b04-ab27-1b46bd79755d.jpeg
END:VEVENT
BEGIN:VEVENT
DTSTART;TZID=America/New_York:20250802T170000
DTEND;TZID=America/New_York:20250802T174500
DTSTAMP:20260423T144034
CREATED:20250713T170014Z
LAST-MODIFIED:20250713T170158Z
UID:2801-1754154000-1754156700@nhballoonrally.org
SUMMARY:Live Music - Angela Stewart
DESCRIPTION:
URL:https://nhballoonrally.org/event/live-music-angela-stewart/
LOCATION:Main Field\, 17 Fayette Street\, Pittsfield\, NH\, 03263\, United States
CATEGORIES:Live Entertainment,Saturday
ATTACH;FMTTYPE=image/jpeg:https://nhballoonrally.org/wp-content/uploads/2025/07/30b9cae8-3ce5-43f4-8953-a27c95e6b9ce.jpeg
END:VEVENT
BEGIN:VEVENT
DTSTART;TZID=America/New_York:20250802T150000
DTEND;TZID=America/New_York:20250802T153000
DTSTAMP:20260423T144034
CREATED:20240310T202944Z
LAST-MODIFIED:20250608T223220Z
UID:2212-1754146800-1754148600@nhballoonrally.org
SUMMARY:Granite State Disc Dogs
DESCRIPTION:
URL:https://nhballoonrally.org/event/granite-state-disc-dogs-2/
LOCATION:Main Field\, 17 Fayette Street\, Pittsfield\, NH\, 03263\, United States
CATEGORIES:Live Entertainment,Saturday
ATTACH;FMTTYPE=image/jpeg:https://nhballoonrally.org/wp-content/uploads/2024/03/20240803-DSC_6579.jpg
END:VEVENT
BEGIN:VEVENT
DTSTART;TZID=America/New_York:20250802T130000
DTEND;TZID=America/New_York:20250802T133000
DTSTAMP:20260423T144034
CREATED:20240310T201614Z
LAST-MODIFIED:20250608T223128Z
UID:2204-1754139600-1754141400@nhballoonrally.org
SUMMARY:Granite State Disc Dogs
DESCRIPTION:
URL:https://nhballoonrally.org/event/granite-state-disc-dogs/
LOCATION:Main Field\, 17 Fayette Street\, Pittsfield\, NH\, 03263\, United States
CATEGORIES:Live Entertainment,Saturday
ATTACH;FMTTYPE=image/jpeg:https://nhballoonrally.org/wp-content/uploads/2024/03/20240803-DSC_6579.jpg
END:VEVENT
BEGIN:VEVENT
DTSTART;TZID=America/New_York:20250801T160000
DTEND;TZID=America/New_York:20250801T180000
DTSTAMP:20260423T144034
CREATED:20240310T200947Z
LAST-MODIFIED:20250608T220751Z
UID:2196-1754064000-1754071200@nhballoonrally.org
SUMMARY:Silly Solutions Balloon Entertainment
DESCRIPTION:Mr. Joe is coming back! \nMr. Joe is a one-of-a-kind balloon entertainer for the Red Sox\, Patriots and other Boston based businesses. He left an Emmy Award winning career in the local television news to pursue balloon design full time. He is now one of the best balloon artists on the east coast.
URL:https://nhballoonrally.org/event/silly-solutions/
LOCATION:Main Field\, 17 Fayette Street\, Pittsfield\, NH\, 03263\, United States
CATEGORIES:Friday,Live Entertainment
ATTACH;FMTTYPE=image/jpeg:https://nhballoonrally.org/wp-content/uploads/2024/03/20240802-DSC_5530.jpg
END:VEVENT
END:VCALENDAR