BEGIN:VCALENDAR
VERSION:2.0
PRODID:-//Suncook Valley Rotary Hot Air Balloon Rally - ECPv6.15.20//NONSGML v1.0//EN
CALSCALE:GREGORIAN
METHOD:PUBLISH
X-WR-CALNAME:Suncook Valley Rotary Hot Air Balloon Rally
X-ORIGINAL-URL:https://nhballoonrally.org
X-WR-CALDESC:Events for Suncook Valley Rotary Hot Air Balloon Rally
REFRESH-INTERVAL;VALUE=DURATION:PT1H
X-Robots-Tag:noindex
X-PUBLISHED-TTL:PT1H
BEGIN:VTIMEZONE
TZID:America/New_York
BEGIN:DAYLIGHT
TZOFFSETFROM:-0500
TZOFFSETTO:-0400
TZNAME:EDT
DTSTART:20240310T070000
END:DAYLIGHT
BEGIN:STANDARD
TZOFFSETFROM:-0400
TZOFFSETTO:-0500
TZNAME:EST
DTSTART:20241103T060000
END:STANDARD
BEGIN:DAYLIGHT
TZOFFSETFROM:-0500
TZOFFSETTO:-0400
TZNAME:EDT
DTSTART:20250309T070000
END:DAYLIGHT
BEGIN:STANDARD
TZOFFSETFROM:-0400
TZOFFSETTO:-0500
TZNAME:EST
DTSTART:20251102T060000
END:STANDARD
BEGIN:DAYLIGHT
TZOFFSETFROM:-0500
TZOFFSETTO:-0400
TZNAME:EDT
DTSTART:20260308T070000
END:DAYLIGHT
BEGIN:STANDARD
TZOFFSETFROM:-0400
TZOFFSETTO:-0500
TZNAME:EST
DTSTART:20261101T060000
END:STANDARD
END:VTIMEZONE
BEGIN:VEVENT
DTSTART;TZID=America/New_York:20250802T213000
DTEND;TZID=America/New_York:20250802T213000
DTSTAMP:20260423T190248
CREATED:20230604T195341Z
LAST-MODIFIED:20250702T014753Z
UID:265-1754170200-1754170200@nhballoonrally.org
SUMMARY:Fireworks (After Night Glow)
DESCRIPTION:Thank you to Atlas Fireworks\, Podmore Manufacturing and our Firework Sponsor to make this incredible fireworks show a possibilty!
URL:https://nhballoonrally.org/event/fireworks-after-night-glow/
LOCATION:Main Field\, 17 Fayette Street\, Pittsfield\, NH\, 03263\, United States
CATEGORIES:Saturday
ATTACH;FMTTYPE=image/jpeg:https://nhballoonrally.org/wp-content/uploads/2023/03/fireworks-scaled.jpg
END:VEVENT
BEGIN:VEVENT
DTSTART;TZID=America/New_York:20250802T180000
DTEND;TZID=America/New_York:20250802T200000
DTSTAMP:20260423T190248
CREATED:20250713T172510Z
LAST-MODIFIED:20250713T172742Z
UID:2805-1754157600-1754164800@nhballoonrally.org
SUMMARY:Live Music - The Dan Fallon Band
DESCRIPTION:
URL:https://nhballoonrally.org/event/live-music-the-dan-fallon-band/
LOCATION:Main Field\, 17 Fayette Street\, Pittsfield\, NH\, 03263\, United States
CATEGORIES:Live Entertainment,Saturday
ATTACH;FMTTYPE=image/jpeg:https://nhballoonrally.org/wp-content/uploads/2025/07/1fd796fb-41d9-4b04-ab27-1b46bd79755d.jpeg
END:VEVENT
BEGIN:VEVENT
DTSTART;TZID=America/New_York:20250802T170000
DTEND;TZID=America/New_York:20250802T174500
DTSTAMP:20260423T190248
CREATED:20250713T170014Z
LAST-MODIFIED:20250713T170158Z
UID:2801-1754154000-1754156700@nhballoonrally.org
SUMMARY:Live Music - Angela Stewart
DESCRIPTION:
URL:https://nhballoonrally.org/event/live-music-angela-stewart/
LOCATION:Main Field\, 17 Fayette Street\, Pittsfield\, NH\, 03263\, United States
CATEGORIES:Live Entertainment,Saturday
ATTACH;FMTTYPE=image/jpeg:https://nhballoonrally.org/wp-content/uploads/2025/07/30b9cae8-3ce5-43f4-8953-a27c95e6b9ce.jpeg
END:VEVENT
BEGIN:VEVENT
DTSTART;TZID=America/New_York:20250802T150000
DTEND;TZID=America/New_York:20250802T153000
DTSTAMP:20260423T190248
CREATED:20240310T202944Z
LAST-MODIFIED:20250608T223220Z
UID:2212-1754146800-1754148600@nhballoonrally.org
SUMMARY:Granite State Disc Dogs
DESCRIPTION:
URL:https://nhballoonrally.org/event/granite-state-disc-dogs-2/
LOCATION:Main Field\, 17 Fayette Street\, Pittsfield\, NH\, 03263\, United States
CATEGORIES:Live Entertainment,Saturday
ATTACH;FMTTYPE=image/jpeg:https://nhballoonrally.org/wp-content/uploads/2024/03/20240803-DSC_6579.jpg
END:VEVENT
BEGIN:VEVENT
DTSTART;TZID=America/New_York:20250802T130000
DTEND;TZID=America/New_York:20250802T133000
DTSTAMP:20260423T190248
CREATED:20240310T201614Z
LAST-MODIFIED:20250608T223128Z
UID:2204-1754139600-1754141400@nhballoonrally.org
SUMMARY:Granite State Disc Dogs
DESCRIPTION:
URL:https://nhballoonrally.org/event/granite-state-disc-dogs/
LOCATION:Main Field\, 17 Fayette Street\, Pittsfield\, NH\, 03263\, United States
CATEGORIES:Live Entertainment,Saturday
ATTACH;FMTTYPE=image/jpeg:https://nhballoonrally.org/wp-content/uploads/2024/03/20240803-DSC_6579.jpg
END:VEVENT
BEGIN:VEVENT
DTSTART;TZID=America/New_York:20250802T120000
DTEND;TZID=America/New_York:20250802T200000
DTSTAMP:20260423T190248
CREATED:20230604T194914Z
LAST-MODIFIED:20250725T144737Z
UID:259-1754136000-1754164800@nhballoonrally.org
SUMMARY:Helicopter Rides
DESCRIPTION:Rides are $75 per person\nEach flight can take up to 3 passengers – max weight of 290lbs per seat\, combined total of 600lbs. Each passenger will be weighed.\nNo lap passengers are allowed in this type of helicopter. Passengers must be able to sit in a seat with a seatbelt\, generally 4 years and older.\nCash or credit cards accepted.\nLines for rides are near the Thyng Memorial on Barnstead Road. \n  \nThank you to Pine Tree Helicopters and the Barnstead Youth Baseball and Softball Association!
URL:https://nhballoonrally.org/event/helicopter-rides-begin-saturday/
LOCATION:Thyng Memoial\, Barnstead Road\, Pittsfield\, NH\, 03263\, United States
CATEGORIES:Helicopter,Saturday
ATTACH;FMTTYPE=image/jpeg:https://nhballoonrally.org/wp-content/uploads/2025/07/IMG_20241003_123418.jpg
END:VEVENT
BEGIN:VEVENT
DTSTART;TZID=America/New_York:20250802T110000
DTEND;TZID=America/New_York:20250802T220000
DTSTAMP:20260423T190248
CREATED:20230604T194617Z
LAST-MODIFIED:20250702T014338Z
UID:251-1754132400-1754172000@nhballoonrally.org
SUMMARY:Amusements
DESCRIPTION:By Vertical Entertainment\n 
URL:https://nhballoonrally.org/event/midway-carnival-rides-saturday/
LOCATION:Main Field\, 17 Fayette Street\, Pittsfield\, NH\, 03263\, United States
CATEGORIES:Carnival,Saturday
END:VEVENT
BEGIN:VEVENT
DTSTART;TZID=America/New_York:20250802T100000
DTEND;TZID=America/New_York:20250802T210000
DTSTAMP:20260423T190248
CREATED:20230604T193641Z
LAST-MODIFIED:20250702T014640Z
UID:237-1754128800-1754168400@nhballoonrally.org
SUMMARY:Craft Fair - Sponsored by the Pittsfield Historical Society
DESCRIPTION:Come visit the Craft Booths at the Tennis Courts\n\nIf you are interested in having a booth at the craft fair – please contact the Pittsfield Historical Society via  Martha Molloy madmoloy@myfairpoint.net or Liz Dimmick liz.dimmick@myfairpoint.net
URL:https://nhballoonrally.org/event/craft-fair-sponsored-by-the-pittsfield-historical-society/
LOCATION:Tennis Courts
CATEGORIES:Saturday
ATTACH;FMTTYPE=image/jpeg:https://nhballoonrally.org/wp-content/uploads/2023/06/crafts.jpg
END:VEVENT
BEGIN:VEVENT
DTSTART;TZID=America/New_York:20250802T090000
DTEND;TZID=America/New_York:20250802T113000
DTSTAMP:20260423T190248
CREATED:20240310T203718Z
LAST-MODIFIED:20250608T222822Z
UID:2214-1754125200-1754134200@nhballoonrally.org
SUMMARY:Teddy Bear Tethering
DESCRIPTION:Bring your favorite teddy bear or stuffed animal for a tethered ride in the Home of the Brave RC Balloon. Only the teddy bear/stuffed animal will be able to go in the balloon. \n  \nCost is by donation.
URL:https://nhballoonrally.org/event/teddy-bear-tethering/
LOCATION:Main Field\, 17 Fayette Street\, Pittsfield\, NH\, 03263\, United States
CATEGORIES:Saturday
ATTACH;FMTTYPE=image/jpeg:https://nhballoonrally.org/wp-content/uploads/2024/03/445381984_1122499862292459_4346358220815498725_n.jpg
END:VEVENT
BEGIN:VEVENT
DTSTART;TZID=America/New_York:20250801T160000
DTEND;TZID=America/New_York:20250801T180000
DTSTAMP:20260423T190248
CREATED:20240310T200947Z
LAST-MODIFIED:20250608T220751Z
UID:2196-1754064000-1754071200@nhballoonrally.org
SUMMARY:Silly Solutions Balloon Entertainment
DESCRIPTION:Mr. Joe is coming back! \nMr. Joe is a one-of-a-kind balloon entertainer for the Red Sox\, Patriots and other Boston based businesses. He left an Emmy Award winning career in the local television news to pursue balloon design full time. He is now one of the best balloon artists on the east coast.
URL:https://nhballoonrally.org/event/silly-solutions/
LOCATION:Main Field\, 17 Fayette Street\, Pittsfield\, NH\, 03263\, United States
CATEGORIES:Friday,Live Entertainment
ATTACH;FMTTYPE=image/jpeg:https://nhballoonrally.org/wp-content/uploads/2024/03/20240802-DSC_5530.jpg
END:VEVENT
BEGIN:VEVENT
DTSTART;TZID=America/New_York:20250801T150000
DTEND;TZID=America/New_York:20250801T220000
DTSTAMP:20260423T190248
CREATED:20230604T184015Z
LAST-MODIFIED:20250702T014246Z
UID:199-1754060400-1754085600@nhballoonrally.org
SUMMARY:Amusements
DESCRIPTION:By Vertical Entertainment
URL:https://nhballoonrally.org/event/midway-carnival-rides-friday/
LOCATION:Main Field\, 17 Fayette Street\, Pittsfield\, NH\, 03263\, United States
CATEGORIES:Carnival,Friday
END:VEVENT
BEGIN:VEVENT
DTSTART;TZID=America/New_York:20250801T150000
DTEND;TZID=America/New_York:20250801T200000
DTSTAMP:20260423T190248
CREATED:20230604T191858Z
LAST-MODIFIED:20250725T144818Z
UID:215-1754060400-1754078400@nhballoonrally.org
SUMMARY:Helicopter Rides
DESCRIPTION:Rides are $75 per person Each flight can take up to 3 passengers – max weight of 290lbs per seat\, combined total of 600lbs. Each passenger will be weighed. No lap passengers are allowed in this type of helicopter. Passengers must be able to sit in a seat with a seatbelt\, generally 4 years and older. Cash or credit cards accepted. Lines for rides are near the Thyng Memorial on Barnstead Road. \n\n\n\nThank you to Pine Tree Helicopters and the Barnstead Youth Baseball and Softball Association!
URL:https://nhballoonrally.org/event/helicopter-rides-begin-friday/
LOCATION:Thyng Memoial\, Barnstead Road\, Pittsfield\, NH\, 03263\, United States
CATEGORIES:Friday,Helicopter
ATTACH;FMTTYPE=image/jpeg:https://nhballoonrally.org/wp-content/uploads/2025/07/IMG_20241003_123418.jpg
END:VEVENT
END:VCALENDAR