BEGIN:VCALENDAR
VERSION:2.0
PRODID:-//Suncook Valley Rotary Hot Air Balloon Rally - ECPv6.15.20//NONSGML v1.0//EN
CALSCALE:GREGORIAN
METHOD:PUBLISH
X-ORIGINAL-URL:https://nhballoonrally.org
X-WR-CALDESC:Events for Suncook Valley Rotary Hot Air Balloon Rally
REFRESH-INTERVAL;VALUE=DURATION:PT1H
X-Robots-Tag:noindex
X-PUBLISHED-TTL:PT1H
BEGIN:VTIMEZONE
TZID:America/New_York
BEGIN:DAYLIGHT
TZOFFSETFROM:-0500
TZOFFSETTO:-0400
TZNAME:EDT
DTSTART:20250309T070000
END:DAYLIGHT
BEGIN:STANDARD
TZOFFSETFROM:-0400
TZOFFSETTO:-0500
TZNAME:EST
DTSTART:20251102T060000
END:STANDARD
BEGIN:DAYLIGHT
TZOFFSETFROM:-0500
TZOFFSETTO:-0400
TZNAME:EDT
DTSTART:20260308T070000
END:DAYLIGHT
BEGIN:STANDARD
TZOFFSETFROM:-0400
TZOFFSETTO:-0500
TZNAME:EST
DTSTART:20261101T060000
END:STANDARD
BEGIN:DAYLIGHT
TZOFFSETFROM:-0500
TZOFFSETTO:-0400
TZNAME:EDT
DTSTART:20270314T070000
END:DAYLIGHT
BEGIN:STANDARD
TZOFFSETFROM:-0400
TZOFFSETTO:-0500
TZNAME:EST
DTSTART:20271107T060000
END:STANDARD
END:VTIMEZONE
BEGIN:VEVENT
DTSTART;TZID=America/New_York:20260802T080000
DTEND;TZID=America/New_York:20260802T080000
DTSTAMP:20260423T165603
CREATED:20230604T195834Z
LAST-MODIFIED:20260205T155051Z
UID:272-1785657600-1785657600@nhballoonrally.org
SUMMARY:Sponsors & Pilots Recognition
DESCRIPTION: 
URL:https://nhballoonrally.org/event/sponsors-pilots-recognition/
LOCATION:Rotary Tent
CATEGORIES:Sunday
ATTACH;FMTTYPE=image/jpeg:https://nhballoonrally.org/wp-content/uploads/2023/06/20240804-DSC_7032.jpg
END:VEVENT
BEGIN:VEVENT
DTSTART;TZID=America/New_York:20260802T090000
DTEND;TZID=America/New_York:20260802T090000
DTSTAMP:20260423T165603
CREATED:20230604T195952Z
LAST-MODIFIED:20260205T155020Z
UID:275-1785661200-1785661200@nhballoonrally.org
SUMMARY:Frank H. Donovan 5K Road Race
DESCRIPTION:Click here to learn more.
URL:https://nhballoonrally.org/event/frank-h-donovan-5k-road-race/
LOCATION:Gazebo
CATEGORIES:Sunday
ATTACH;FMTTYPE=image/jpeg:https://nhballoonrally.org/wp-content/uploads/2023/03/2017-Starting-Line-edited.jpg
END:VEVENT
BEGIN:VEVENT
DTSTART;TZID=America/New_York:20260802T090000
DTEND;TZID=America/New_York:20260802T090000
DTSTAMP:20260423T165603
CREATED:20230604T200059Z
LAST-MODIFIED:20260205T154953Z
UID:278-1785661200-1785661200@nhballoonrally.org
SUMMARY:Cow Chip Bingo - Sponsored by Victory Workers 4H
DESCRIPTION:Buy your tickets at Cow Chip Bingo
URL:https://nhballoonrally.org/event/cowchipbingo/
LOCATION:Main Field\, 17 Fayette Street\, Pittsfield\, NH\, 03263\, United States
CATEGORIES:Sunday
ATTACH;FMTTYPE=image/jpeg:https://nhballoonrally.org/wp-content/uploads/2023/06/20240804-DSC_7270.jpg
END:VEVENT
END:VCALENDAR