BEGIN:VCALENDAR
VERSION:2.0
PRODID:-//Suncook Valley Rotary Hot Air Balloon Rally - ECPv6.15.20//NONSGML v1.0//EN
CALSCALE:GREGORIAN
METHOD:PUBLISH
X-ORIGINAL-URL:https://nhballoonrally.org
X-WR-CALDESC:Events for Suncook Valley Rotary Hot Air Balloon Rally
REFRESH-INTERVAL;VALUE=DURATION:PT1H
X-Robots-Tag:noindex
X-PUBLISHED-TTL:PT1H
BEGIN:VTIMEZONE
TZID:America/New_York
BEGIN:DAYLIGHT
TZOFFSETFROM:-0500
TZOFFSETTO:-0400
TZNAME:EDT
DTSTART:20250309T070000
END:DAYLIGHT
BEGIN:STANDARD
TZOFFSETFROM:-0400
TZOFFSETTO:-0500
TZNAME:EST
DTSTART:20251102T060000
END:STANDARD
BEGIN:DAYLIGHT
TZOFFSETFROM:-0500
TZOFFSETTO:-0400
TZNAME:EDT
DTSTART:20260308T070000
END:DAYLIGHT
BEGIN:STANDARD
TZOFFSETFROM:-0400
TZOFFSETTO:-0500
TZNAME:EST
DTSTART:20261101T060000
END:STANDARD
BEGIN:DAYLIGHT
TZOFFSETFROM:-0500
TZOFFSETTO:-0400
TZNAME:EDT
DTSTART:20270314T070000
END:DAYLIGHT
BEGIN:STANDARD
TZOFFSETFROM:-0400
TZOFFSETTO:-0500
TZNAME:EST
DTSTART:20271107T060000
END:STANDARD
END:VTIMEZONE
BEGIN:VEVENT
DTSTART;TZID=America/New_York:20260802T053000
DTEND;TZID=America/New_York:20260802T053000
DTSTAMP:20260423T181127
CREATED:20230604T195457Z
LAST-MODIFIED:20260205T155149Z
UID:267-1785648600-1785648600@nhballoonrally.org
SUMMARY:Balloons Arrival on Field - Flights to follow*
DESCRIPTION:*Times indicate the arrival of balloons to Drake Field. Actual flight time is dependant on wind and weather and may be subject to last-minute changes.
URL:https://nhballoonrally.org/event/balloons-lift-off-sunday-am/
LOCATION:Main Field\, 17 Fayette Street\, Pittsfield\, NH\, 03263\, United States
CATEGORIES:Balloons,Sunday
ATTACH;FMTTYPE=image/jpeg:https://nhballoonrally.org/wp-content/uploads/2023/03/balloons.jpg
END:VEVENT
END:VCALENDAR